BEGIN:VCALENDAR
VERSION:2.0
PRODID:-//Top A Rise Campground | Falconer NY - ECPv6.10.1.1//NONSGML v1.0//EN
CALSCALE:GREGORIAN
METHOD:PUBLISH
X-ORIGINAL-URL:http://toparisecampground.com
X-WR-CALDESC:Events for Top A Rise Campground | Falconer NY
REFRESH-INTERVAL;VALUE=DURATION:PT1H
X-Robots-Tag:noindex
X-PUBLISHED-TTL:PT1H
BEGIN:VTIMEZONE
TZID:America/New_York
BEGIN:DAYLIGHT
TZOFFSETFROM:-0500
TZOFFSETTO:-0400
TZNAME:EDT
DTSTART:20250309T070000
END:DAYLIGHT
BEGIN:STANDARD
TZOFFSETFROM:-0400
TZOFFSETTO:-0500
TZNAME:EST
DTSTART:20251102T060000
END:STANDARD
END:VTIMEZONE
BEGIN:VEVENT
DTSTART;TZID=America/New_York:20250614T130000
DTEND;TZID=America/New_York:20250614T150000
DTSTAMP:20260420T155512
CREATED:20250304T182635Z
LAST-MODIFIED:20250304T182636Z
UID:621-1749906000-1749913200@toparisecampground.com
SUMMARY:Human Foosball Fun
DESCRIPTION:Come join us for Human Foosball. \n\n\n\nFoosball is a 5 a side Soccer Game.
URL:http://toparisecampground.com/event/human-foosball-fun/
LOCATION:Events Field by the Pond
END:VEVENT
BEGIN:VEVENT
DTSTART;TZID=America/New_York:20250614T160000
DTEND;TZID=America/New_York:20250614T160000
DTSTAMP:20260420T155512
CREATED:20250304T184015Z
LAST-MODIFIED:20250304T184016Z
UID:624-1749916800-1749916800@toparisecampground.com
SUMMARY:Team Colors Golf Cart Parade
DESCRIPTION:Team Colors Golf Cart Parade
URL:http://toparisecampground.com/event/team-colors-golf-cart-parade/
LOCATION:Recreation Hall
END:VEVENT
END:VCALENDAR