BEGIN:VCALENDAR
VERSION:2.0
PRODID:-//Top A Rise Campground | Falconer NY - ECPv6.10.1.1//NONSGML v1.0//EN
CALSCALE:GREGORIAN
METHOD:PUBLISH
X-ORIGINAL-URL:http://toparisecampground.com
X-WR-CALDESC:Events for Top A Rise Campground | Falconer NY
REFRESH-INTERVAL;VALUE=DURATION:PT1H
X-Robots-Tag:noindex
X-PUBLISHED-TTL:PT1H
BEGIN:VTIMEZONE
TZID:America/New_York
BEGIN:DAYLIGHT
TZOFFSETFROM:-0500
TZOFFSETTO:-0400
TZNAME:EDT
DTSTART:20250309T070000
END:DAYLIGHT
BEGIN:STANDARD
TZOFFSETFROM:-0400
TZOFFSETTO:-0500
TZNAME:EST
DTSTART:20251102T060000
END:STANDARD
END:VTIMEZONE
BEGIN:VEVENT
DTSTART;TZID=America/New_York:20250905T170000
DTEND;TZID=America/New_York:20250905T170000
DTSTAMP:20260419T083506
CREATED:20250305T164403Z
LAST-MODIFIED:20250305T164405Z
UID:826-1757091600-1757091600@toparisecampground.com
SUMMARY:Koi Feeding Time
DESCRIPTION:Come feed the Koi Fish at the Koi Pond
URL:http://toparisecampground.com/event/koi-feeding-time-14/
LOCATION:Recreation Hall
END:VEVENT
BEGIN:VEVENT
DTSTART;TZID=America/New_York:20250910T180000
DTEND;TZID=America/New_York:20250910T193000
DTSTAMP:20260419T083506
CREATED:20250305T171257Z
LAST-MODIFIED:20250305T171258Z
UID:840-1757527200-1757532600@toparisecampground.com
SUMMARY:Pot Luck Dinner
DESCRIPTION:Bring a dish to share and enjoy great conversation.
URL:http://toparisecampground.com/event/pot-luck-dinner-4/
LOCATION:Recreation Hall
END:VEVENT
BEGIN:VEVENT
DTSTART;TZID=America/New_York:20250912T170000
DTEND;TZID=America/New_York:20250912T170000
DTSTAMP:20260419T083506
CREATED:20250305T164503Z
LAST-MODIFIED:20250305T164505Z
UID:828-1757696400-1757696400@toparisecampground.com
SUMMARY:Koi Feeding Time
DESCRIPTION:Come feed the Koi Fish at the Koi Pond
URL:http://toparisecampground.com/event/koi-feeding-time-15/
LOCATION:Recreation Hall
END:VEVENT
BEGIN:VEVENT
DTSTART;TZID=America/New_York:20250913T100000
DTEND;TZID=America/New_York:20250913T113000
DTSTAMP:20260419T083506
CREATED:20250731T161400Z
LAST-MODIFIED:20250731T161401Z
UID:1020-1757757600-1757763000@toparisecampground.com
SUMMARY:Ceramics and More
DESCRIPTION:Ceramics and More are here once again.
URL:http://toparisecampground.com/event/ceramics-and-more/
LOCATION:Recreation Hall
END:VEVENT
BEGIN:VEVENT
DTSTART;TZID=America/New_York:20250913T140000
DTEND;TZID=America/New_York:20250913T150000
DTSTAMP:20260419T083506
CREATED:20250731T161615Z
LAST-MODIFIED:20250731T162120Z
UID:1022-1757772000-1757775600@toparisecampground.com
SUMMARY:Inflatable Obstacle Course
DESCRIPTION:Inflatable Obstacle Course Fun.
URL:http://toparisecampground.com/event/inflatable-obstacle-course/
LOCATION:Events Field by the Pond
END:VEVENT
BEGIN:VEVENT
DTSTART;TZID=America/New_York:20250919T170000
DTEND;TZID=America/New_York:20250919T170000
DTSTAMP:20260419T083506
CREATED:20250305T164611Z
LAST-MODIFIED:20250305T164612Z
UID:830-1758301200-1758301200@toparisecampground.com
SUMMARY:Koi Feeding Time
DESCRIPTION:Come feed the Koi Fish at the Koi Pond
URL:http://toparisecampground.com/event/koi-feeding-time-16/
LOCATION:Recreation Hall
END:VEVENT
BEGIN:VEVENT
DTSTART;TZID=America/New_York:20250926T170000
DTEND;TZID=America/New_York:20250926T170000
DTSTAMP:20260419T083506
CREATED:20250305T164700Z
LAST-MODIFIED:20250305T164701Z
UID:832-1758906000-1758906000@toparisecampground.com
SUMMARY:Koi Feeding Time
DESCRIPTION:Come feed the Koi Fish at the Koi Pond
URL:http://toparisecampground.com/event/koi-feeding-time-17/
LOCATION:Koi Pond
END:VEVENT
BEGIN:VEVENT
DTSTART;TZID=America/New_York:20250926T190000
DTEND;TZID=America/New_York:20250926T200000
DTSTAMP:20260419T083506
CREATED:20250925T150440Z
LAST-MODIFIED:20250925T150529Z
UID:1098-1758913200-1758916800@toparisecampground.com
SUMMARY:Candy Bar Bingo Hour
DESCRIPTION:Bring along a Candy Bar
URL:http://toparisecampground.com/event/candy-bar-bingo-hour-6/
LOCATION:Recreation Hall
END:VEVENT
BEGIN:VEVENT
DTSTART;TZID=America/New_York:20250930T190000
DTEND;TZID=America/New_York:20250930T210000
DTSTAMP:20260419T083506
CREATED:20250305T154451Z
LAST-MODIFIED:20250305T154452Z
UID:743-1759258800-1759266000@toparisecampground.com
SUMMARY:Beanbag Baseball Night
DESCRIPTION:Join us for a great game of Beanbag Baseball. Everyone is welcome.
URL:http://toparisecampground.com/event/beanbag-baseball-night-19/
LOCATION:Recreation Hall
END:VEVENT
END:VCALENDAR