BEGIN:VCALENDAR
VERSION:2.0
PRODID:-//Top A Rise Campground | Falconer NY - ECPv6.10.1.1//NONSGML v1.0//EN
CALSCALE:GREGORIAN
METHOD:PUBLISH
X-WR-CALNAME:Top A Rise Campground | Falconer NY
X-ORIGINAL-URL:https://toparisecampground.com
X-WR-CALDESC:Events for Top A Rise Campground | Falconer NY
REFRESH-INTERVAL;VALUE=DURATION:PT1H
X-Robots-Tag:noindex
X-PUBLISHED-TTL:PT1H
BEGIN:VTIMEZONE
TZID:America/New_York
BEGIN:DAYLIGHT
TZOFFSETFROM:-0500
TZOFFSETTO:-0400
TZNAME:EDT
DTSTART:20260308T070000
END:DAYLIGHT
BEGIN:STANDARD
TZOFFSETFROM:-0400
TZOFFSETTO:-0500
TZNAME:EST
DTSTART:20261101T060000
END:STANDARD
END:VTIMEZONE
BEGIN:VEVENT
DTSTART;TZID=America/New_York:20260916T180000
DTEND;TZID=America/New_York:20260916T200000
DTSTAMP:20260424T101450
CREATED:20250305T175643Z
LAST-MODIFIED:20250924T162244Z
UID:881-1789581600-1789588800@toparisecampground.com
SUMMARY:Game Night
DESCRIPTION:Game Night hosted by Betty. \n\n\n\nCome along and play your favorite Games. It could be Cards\, Board Games or any other Game\, just bring it along and play with friends.
URL:https://toparisecampground.com/event/game-night-18/
LOCATION:Recreation Hall
END:VEVENT
END:VCALENDAR