BEGIN:VCALENDAR
VERSION:2.0
PRODID:-//Top A Rise Campground | Falconer NY - ECPv6.10.1.1//NONSGML v1.0//EN
CALSCALE:GREGORIAN
METHOD:PUBLISH
X-WR-CALNAME:Top A Rise Campground | Falconer NY
X-ORIGINAL-URL:https://toparisecampground.com
X-WR-CALDESC:Events for Top A Rise Campground | Falconer NY
REFRESH-INTERVAL;VALUE=DURATION:PT1H
X-Robots-Tag:noindex
X-PUBLISHED-TTL:PT1H
BEGIN:VTIMEZONE
TZID:America/New_York
BEGIN:DAYLIGHT
TZOFFSETFROM:-0500
TZOFFSETTO:-0400
TZNAME:EDT
DTSTART:20260308T070000
END:DAYLIGHT
BEGIN:STANDARD
TZOFFSETFROM:-0400
TZOFFSETTO:-0500
TZNAME:EST
DTSTART:20261101T060000
END:STANDARD
END:VTIMEZONE
BEGIN:VEVENT
DTSTART;TZID=America/New_York:20260926T180000
DTEND;TZID=America/New_York:20260926T193000
DTSTAMP:20260425T105332
CREATED:20250731T163744Z
LAST-MODIFIED:20260411T012537Z
UID:1040-1790445600-1790451000@toparisecampground.com
SUMMARY:Chili and Soup Cook Off
DESCRIPTION:Make your very best and most delicious Chili or Soup for judging at the Annual Chili and Soup Cook Off. This is one of the most popular events on the Calendar so make sure not to miss this one. Whether your specialty is chili\, soup\, or both this is a fun and filling event. Bring your tasting cups\, trays\, or cupcake tins and your pen and good luck figuring out which one is your favorite.
URL:https://toparisecampground.com/event/chili-and-soup-cook-off/
LOCATION:Recreation Hall
END:VEVENT
BEGIN:VEVENT
DTSTART;TZID=America/New_York:20260926T190000
DTEND;TZID=America/New_York:20260926T220000
DTSTAMP:20260425T105332
CREATED:20250731T182430Z
LAST-MODIFIED:20260411T012708Z
UID:1060-1790449200-1790460000@toparisecampground.com
SUMMARY:John Harvey Karaoke Night
DESCRIPTION:The one and Only John Harvey will be helping us finish a good night of Soup and Chili with an entertaining Karaoke Night in the Rec Hall. Request\, sing\, enjoy spending time together as we sing and dance the night away.
URL:https://toparisecampground.com/event/john-harvey-karaoke-night/
LOCATION:Recreation Hall
END:VEVENT
END:VCALENDAR