BEGIN:VCALENDAR
VERSION:2.0
PRODID:-//Top A Rise Campground | Falconer NY - ECPv6.10.1.1//NONSGML v1.0//EN
CALSCALE:GREGORIAN
METHOD:PUBLISH
X-ORIGINAL-URL:https://toparisecampground.com
X-WR-CALDESC:Events for Top A Rise Campground | Falconer NY
REFRESH-INTERVAL;VALUE=DURATION:PT1H
X-Robots-Tag:noindex
X-PUBLISHED-TTL:PT1H
BEGIN:VTIMEZONE
TZID:America/New_York
BEGIN:DAYLIGHT
TZOFFSETFROM:-0500
TZOFFSETTO:-0400
TZNAME:EDT
DTSTART:20260308T070000
END:DAYLIGHT
BEGIN:STANDARD
TZOFFSETFROM:-0400
TZOFFSETTO:-0500
TZNAME:EST
DTSTART:20261101T060000
END:STANDARD
END:VTIMEZONE
BEGIN:VEVENT
DTSTART;TZID=America/New_York:20260927T080000
DTEND;TZID=America/New_York:20261004T170000
DTSTAMP:20260425T183029
CREATED:20250924T204837Z
LAST-MODIFIED:20250924T205531Z
UID:1090-1790496000-1791133200@toparisecampground.com
SUMMARY:Halloween Decor Competition. $100 Prize
DESCRIPTION:Decorate your site with your favorite Halloween decorations.  \n\n\n\nGolf Cart Parade will be on Friday night at dusk so we can all view the entries and the winner will be announced at the mini Disco.
URL:https://toparisecampground.com/event/halloween-week/
LOCATION:Various Locations
END:VEVENT
BEGIN:VEVENT
DTSTART;TZID=America/New_York:20260930T180000
DTEND;TZID=America/New_York:20260930T200000
DTSTAMP:20260425T183029
CREATED:20250305T175847Z
LAST-MODIFIED:20250924T162352Z
UID:885-1790791200-1790798400@toparisecampground.com
SUMMARY:Game Night
DESCRIPTION:Game Night hosted by Betty. \n\n\n\nCome along and play your favorite Games. It could be Cards\, Board Games or any other Game\, just bring it along and play with friends.
URL:https://toparisecampground.com/event/game-night-20/
LOCATION:Recreation Hall
END:VEVENT
END:VCALENDAR